BEGIN:VCALENDAR
VERSION:2.0
PRODID:-//wp-events-plugin.com//7.2.3.1//EN
TZID:Europe/Berlin
X-WR-TIMEZONE:Europe/Berlin
BEGIN:VEVENT
UID:766@bergenhusen.de
DTSTART;TZID=Europe/Berlin:20261213T143000
DTEND;TZID=Europe/Berlin:20261213T163000
DTSTAMP:20260129T183124Z
URL:https://bergenhusen.de/events/wintergaeste-gaense-schwaene-enten-co/
SUMMARY:Wintergäste: Gänse\, Schwäne\, Enten & Co.
DESCRIPTION:Jedes Jahr im Winter rasten tausende Gänse\, Enten und Schwän
 e sowie verschiedene Watvögel in der Eider-Treene-Sorge-Niederung (ETS). 
 Bei einer kurzen PKW-Exkursion zu den Futterplätzen bieten leistungsstark
 e Spektive gute Sicht auf zahlreiche Vogelarten. Anschließend beobachten 
 wir gemeinsam das Spektakel\, wenn sich in der Dämmerung die Vögel zu ih
 ren Schlafplätzen zurückziehen. Bei einem Heißgetränk erhalten Sie int
 eressante Informationen über Reiserouten\, Brutplätze und Besonderheiten
  unserer Wintergäste.\n\nKosten: Erwachsene 10 €\, Kinder 5 €\nBitte 
 mitbringen: Wetterfeste Kleidung\, festes Schuhwerk\, Fernglas (falls vorh
 anden).\n\nHinweis: Die Exkursion findet mit Privat-PKW statt\, ggf. werde
 n vor Ort Fahrgemeinschaften gebildet.
CATEGORIES:Michael-Otto-Institut im NABU
LOCATION:NABU\, Michael-Otto-Institut im NABU\, Goosstroot 1\, Bergenhusen\
 , SH\, 24861\, Deutschland
X-APPLE-STRUCTURED-LOCATION;VALUE=URI;X-ADDRESS=Michael-Otto-Institut im NA
 BU\, Goosstroot 1\, Bergenhusen\, SH\, 24861\, Deutschland;X-APPLE-RADIUS=
 100;X-TITLE=NABU:geo:0,0
END:VEVENT
BEGIN:VTIMEZONE
TZID:Europe/Berlin
X-LIC-LOCATION:Europe/Berlin
BEGIN:STANDARD
DTSTART:20261025T020000
TZOFFSETFROM:+0200
TZOFFSETTO:+0100
TZNAME:CET
END:STANDARD
END:VTIMEZONE
END:VCALENDAR