BEGIN:VCALENDAR
VERSION:2.0
PRODID:-//wp-events-plugin.com//7.2.3.1//EN
TZID:Europe/Berlin
X-WR-TIMEZONE:Europe/Berlin
BEGIN:VEVENT
UID:762@bergenhusen.de
DTSTART;TZID=Europe/Berlin:20260717T140000
DTEND;TZID=Europe/Berlin:20260717T170000
DTSTAMP:20260129T182646Z
URL:https://bergenhusen.de/events/wasserforschertag/
SUMMARY:Wasserforschertag
DESCRIPTION:Mit Kescher und Lupe erforschen wir die Tierwelt im Teich. Wir 
 suchen dabei räuberische Skorpione\, Spinnen\, die unter Wasser atmen kö
 nnen\, rudernde Wanzen und vieles mehr. Neben Spiel und Spaß rund um das 
 Thema (Unter-)Wasserwelt wird die „Beute“ im Labor untersucht. Für Ki
 nder zwischen 6 und 12 Jahren.\n\nKosten: 10 € pro Kind\, Anmeldung erfo
 rderlich\n\nBitte mitbringen: Wetterfeste Kleidung\, festes Schuhwerk\, Pr
 oviant für ein Picknick
CATEGORIES:Michael-Otto-Institut im NABU
LOCATION:NABU\, Michael-Otto-Institut im NABU\, Goosstroot 1\, Bergenhusen\
 , SH\, 24861\, Deutschland
X-APPLE-STRUCTURED-LOCATION;VALUE=URI;X-ADDRESS=Michael-Otto-Institut im NA
 BU\, Goosstroot 1\, Bergenhusen\, SH\, 24861\, Deutschland;X-APPLE-RADIUS=
 100;X-TITLE=NABU:geo:0,0
END:VEVENT
BEGIN:VTIMEZONE
TZID:Europe/Berlin
X-LIC-LOCATION:Europe/Berlin
BEGIN:DAYLIGHT
DTSTART:20260329T030000
TZOFFSETFROM:+0100
TZOFFSETTO:+0200
TZNAME:CEST
END:DAYLIGHT
END:VTIMEZONE
END:VCALENDAR