BEGIN:VCALENDAR
VERSION:2.0
PRODID:-//wp-events-plugin.com//7.2.3.1//EN
TZID:Europe/Berlin
X-WR-TIMEZONE:Europe/Berlin
BEGIN:VEVENT
UID:765@bergenhusen.de
DTSTART;TZID=Europe/Berlin:20261108T130000
DTEND;TZID=Europe/Berlin:20261108T150000
DTSTAMP:20260129T183014Z
URL:https://bergenhusen.de/events/von-knicks-und-keltischen-feldern-2/
SUMMARY:Von Knicks und "Keltischen Feldern"
DESCRIPTION:Bereits seit Jahrtausenden besiedeln Menschen die Landschaft St
 apelholm\, davon zeugen z. B. noch heute sichtbare vorgeschichtliche Grabh
 ügel und Ackerfluren (sog. celtic fields). Unser Wald- und Dorfrundgang w
 idmet sich daher nicht nur dem mittelalterlichen „Beveringhusen“\, son
 dern auch der wechselseitigen Beziehung von Mensch und Umwelt von der Stei
 nzeit bis ins 14. Jahrhundert.\n\nKosten: Erwachsene 10 €\, Kinder 5 €
 \n\nHinweis: Die Exkursion findet mit Privat-PKW statt\, ggf. werden vor O
 rt Fahrgemeinschaften gebildet.
CATEGORIES:Michael-Otto-Institut im NABU
LOCATION:NABU\, Michael-Otto-Institut im NABU\, Goosstroot 1\, Bergenhusen\
 , SH\, 24861\, Deutschland
X-APPLE-STRUCTURED-LOCATION;VALUE=URI;X-ADDRESS=Michael-Otto-Institut im NA
 BU\, Goosstroot 1\, Bergenhusen\, SH\, 24861\, Deutschland;X-APPLE-RADIUS=
 100;X-TITLE=NABU:geo:0,0
END:VEVENT
BEGIN:VTIMEZONE
TZID:Europe/Berlin
X-LIC-LOCATION:Europe/Berlin
BEGIN:STANDARD
DTSTART:20261025T020000
TZOFFSETFROM:+0200
TZOFFSETTO:+0100
TZNAME:CET
END:STANDARD
END:VTIMEZONE
END:VCALENDAR