BEGIN:VCALENDAR
VERSION:2.0
PRODID:-//wp-events-plugin.com//7.2.3.1//EN
TZID:Europe/Berlin
X-WR-TIMEZONE:Europe/Berlin
BEGIN:VEVENT
UID:892@bergenhusen.de
DTSTART;TZID=Europe/Berlin:20260718T200000
DTEND;TZID=Europe/Berlin:20260718T200000
DTSTAMP:20260308T103351Z
URL:https://bergenhusen.de/events/scheibengilde-koenigsball/
SUMMARY:Scheibengilde   Königsball
DESCRIPTION:
CATEGORIES:Vereinsaktivitäten
LOCATION:Paradies\, Backern\, Backern\, Bergenhusen\, 24861\, Deutschland
X-APPLE-STRUCTURED-LOCATION;VALUE=URI;X-ADDRESS=Backern\, Bergenhusen\, 248
 61\, Deutschland;X-APPLE-RADIUS=100;X-TITLE=Paradies\, Backern:geo:0,0
END:VEVENT
BEGIN:VTIMEZONE
TZID:Europe/Berlin
X-LIC-LOCATION:Europe/Berlin
BEGIN:DAYLIGHT
DTSTART:20260329T030000
TZOFFSETFROM:+0100
TZOFFSETTO:+0200
TZNAME:CEST
END:DAYLIGHT
END:VTIMEZONE
END:VCALENDAR