BEGIN:VCALENDAR
VERSION:2.0
PRODID:-//wp-events-plugin.com//7.2.3.1//EN
TZID:Europe/Berlin
X-WR-TIMEZONE:Europe/Berlin
BEGIN:VEVENT
UID:823@bergenhusen.de
DTSTART;TZID=Europe/Berlin:20261113T190000
DTEND;TZID=Europe/Berlin:20261113T190000
DTSTAMP:20260308T092818Z
URL:https://bergenhusen.de/events/reitergemeinschaft-gruenkohlessen/
SUMMARY:Reitergemeinschaft   Grünkohlessen
DESCRIPTION:
ATTACH;FMTTYPE=image/jpeg:https://bergenhusen.de/wp-content/uploads/2020/0
 3/logo_transparent-c757d3e4-84ef8e6f@160w.jpg
CATEGORIES:Vereinsaktivitäten
LOCATION:Reithalle\, Stuten 5\, Bergenhusen\, 24861\, Deutschland
X-APPLE-STRUCTURED-LOCATION;VALUE=URI;X-ADDRESS=Stuten 5\, Bergenhusen\, 24
 861\, Deutschland;X-APPLE-RADIUS=100;X-TITLE=Reithalle:geo:0,0
END:VEVENT
BEGIN:VTIMEZONE
TZID:Europe/Berlin
X-LIC-LOCATION:Europe/Berlin
BEGIN:STANDARD
DTSTART:20261025T020000
TZOFFSETFROM:+0200
TZOFFSETTO:+0100
TZNAME:CET
END:STANDARD
END:VTIMEZONE
END:VCALENDAR