BEGIN:VCALENDAR
VERSION:2.0
PRODID:-//wp-events-plugin.com//7.2.3.1//EN
TZID:Europe/Berlin
X-WR-TIMEZONE:Europe/Berlin
BEGIN:VEVENT
UID:561@bergenhusen.de
DTSTART;TZID=Europe/Berlin:20230914T193000
DTEND;TZID=Europe/Berlin:20230914T193000
DTSTAMP:20230330T163229Z
URL:https://bergenhusen.de/events/landfrauenverein-stapelholm-e-v-40/
SUMMARY:LandFrauenVerein Stapelholm e.V.
DESCRIPTION:\n„Sülbern Hochtiet –\nDas Beste aus 25 Jahren“\nLiterar
 isches u. Musikalisches in\nplatt- und hochdeutsch\nmit Karl-Heinz Langer\
 nund Rainer Schwarz\nFlyer 23
CATEGORIES:Vereinsaktivitäten
LOCATION:Niemeyers Landgasthof & Pension GbR\, Hauptstraße 22\, Stapel\, 2
 5879\, Deutschland
X-APPLE-STRUCTURED-LOCATION;VALUE=URI;X-ADDRESS=Hauptstraße 22\, Stapel\, 
 25879\, Deutschland;X-APPLE-RADIUS=100;X-TITLE=Niemeyers Landgasthof & Pen
 sion GbR:geo:0,0
END:VEVENT
BEGIN:VTIMEZONE
TZID:Europe/Berlin
X-LIC-LOCATION:Europe/Berlin
BEGIN:DAYLIGHT
DTSTART:20230326T030000
TZOFFSETFROM:+0100
TZOFFSETTO:+0200
TZNAME:CEST
END:DAYLIGHT
END:VTIMEZONE
END:VCALENDAR