BEGIN:VCALENDAR
VERSION:2.0
PRODID:-//wp-events-plugin.com//7.2.3.1//EN
TZID:Europe/Berlin
X-WR-TIMEZONE:Europe/Berlin
BEGIN:VEVENT
UID:872@bergenhusen.de
DTSTART;TZID=Europe/Berlin:20261210T193000
DTEND;TZID=Europe/Berlin:20261210T193000
DTSTAMP:20260308T095537Z
URL:https://bergenhusen.de/events/landfrauen-weinachtsfeier/
SUMMARY:Landfrauen  Weinachtsfeier
DESCRIPTION:
ATTACH;FMTTYPE=image/jpeg:https://bergenhusen.de/wp-content/uploads/2020/0
 3/landfrauen-logo-5408ec70-84ef8e6f@160w.jpg
CATEGORIES:Vereinsaktivitäten
LOCATION:Frahm´s Gasthof\, Hauptstraße 107\, Dörpstedt / Bünge\, 24869\
 , Deutschland
X-APPLE-STRUCTURED-LOCATION;VALUE=URI;X-ADDRESS=Hauptstraße 107\, Dörpste
 dt / Bünge\, 24869\, Deutschland;X-APPLE-RADIUS=100;X-TITLE=Frahm´s Gast
 hof:geo:0,0
END:VEVENT
BEGIN:VTIMEZONE
TZID:Europe/Berlin
X-LIC-LOCATION:Europe/Berlin
BEGIN:STANDARD
DTSTART:20261025T020000
TZOFFSETFROM:+0200
TZOFFSETTO:+0100
TZNAME:CET
END:STANDARD
END:VTIMEZONE
END:VCALENDAR