BEGIN:VCALENDAR
VERSION:2.0
PRODID:-//wp-events-plugin.com//7.2.3.1//EN
TZID:Europe/Berlin
X-WR-TIMEZONE:Europe/Berlin
BEGIN:VEVENT
UID:866@bergenhusen.de
DTSTART;TZID=Europe/Berlin:20260910T193000
DTEND;TZID=Europe/Berlin:20260910T193000
DTSTAMP:20260308T094437Z
URL:https://bergenhusen.de/events/landfrauen-der-suezkanal-eine-lebensader
 -dr-reinhard/
SUMMARY:Landfrauen  der Suezkanal - eine Lebensader. Dr. Reinhard
DESCRIPTION:
ATTACH;FMTTYPE=image/jpeg:https://bergenhusen.de/wp-content/uploads/2020/0
 3/landfrauen-logo-5408ec70-84ef8e6f@160w.jpg
CATEGORIES:Vereinsaktivitäten
LOCATION:Frahm´s Gasthof\, Hauptstraße 107\, Dörpstedt / Bünge\, 24869\
 , Deutschland
X-APPLE-STRUCTURED-LOCATION;VALUE=URI;X-ADDRESS=Hauptstraße 107\, Dörpste
 dt / Bünge\, 24869\, Deutschland;X-APPLE-RADIUS=100;X-TITLE=Frahm´s Gast
 hof:geo:0,0
END:VEVENT
BEGIN:VTIMEZONE
TZID:Europe/Berlin
X-LIC-LOCATION:Europe/Berlin
BEGIN:DAYLIGHT
DTSTART:20260329T030000
TZOFFSETFROM:+0100
TZOFFSETTO:+0200
TZNAME:CEST
END:DAYLIGHT
END:VTIMEZONE
END:VCALENDAR