BEGIN:VCALENDAR
VERSION:2.0
PRODID:-//wp-events-plugin.com//7.2.3.1//EN
TZID:Europe/Berlin
X-WR-TIMEZONE:Europe/Berlin
BEGIN:VEVENT
UID:868@bergenhusen.de
DTSTART;TZID=Europe/Berlin:20260927T100000
DTEND;TZID=Europe/Berlin:20260927T180000
DTSTAMP:20260308T094729Z
URL:https://bergenhusen.de/events/landfrauen-29-bauernmarkt-herbstkraenze/
SUMMARY:Landfrauen  29. Bauernmarkt - Herbstkränze
DESCRIPTION:Schwabstedt
ATTACH;FMTTYPE=image/jpeg:https://bergenhusen.de/wp-content/uploads/2020/0
 3/landfrauen-logo-5408ec70-84ef8e6f@160w.jpg
CATEGORIES:Vereinsaktivitäten
LOCATION:gemäß Aushang\, gemäß Aushang\, Bergenhusen\, 24861\, Deutschl
 and
X-APPLE-STRUCTURED-LOCATION;VALUE=URI;X-ADDRESS=gemäß Aushang\, Bergenhus
 en\, 24861\, Deutschland;X-APPLE-RADIUS=100;X-TITLE=gemäß Aushang:geo:0,
 0
END:VEVENT
BEGIN:VTIMEZONE
TZID:Europe/Berlin
X-LIC-LOCATION:Europe/Berlin
BEGIN:DAYLIGHT
DTSTART:20260329T030000
TZOFFSETFROM:+0100
TZOFFSETTO:+0200
TZNAME:CEST
END:DAYLIGHT
END:VTIMEZONE
END:VCALENDAR