BEGIN:VCALENDAR
VERSION:2.0
PRODID:-//wp-events-plugin.com//7.2.3.1//EN
TZID:Europe/Berlin
X-WR-TIMEZONE:Europe/Berlin
BEGIN:VEVENT
UID:761@bergenhusen.de
DTSTART;TZID=Europe/Berlin:20260620T150000
DTEND;TZID=Europe/Berlin:20260620T160000
DTSTAMP:20260129T182539Z
URL:https://bergenhusen.de/events/kinder-fuehren-kinder-dem-storch-auf-der
 -spur/
SUMMARY:Kinder führen Kinder: Dem Storch auf der Spur
DESCRIPTION:Auf den Dächern Bergenhusens wird es immer lebendiger. Die Kü
 ken werden langsam groß und die ersten fangen an\, das Dorf auf eigene Fa
 ust zu erkunden. Doch nicht nur die Storchenkinder entdecken das Dorf für
  sich neu. Ganz nach dem Motto „Kinder führen Kinder“ gibt es hier vo
 r allem für unsere kleinen Besucher Antworten auf zahlreiche Fragen: Gibt
  es einen König der Störche? Wie gehen Störche auf‘s Klo? Oder wie si
 eht ein Storchenei aus? Empfohlen ab 6 Jahren\, Kinder unter 8 Jahren nur 
 in Begleitung eines Erwachsenen.\n\nKosten: Erwachsene 5 €\, Kinder 3 
 €\n\nBitte mitbringen: Fernglas (falls vorhanden)\n\n 
CATEGORIES:Michael-Otto-Institut im NABU
LOCATION:NABU\, Michael-Otto-Institut im NABU\, Goosstroot 1\, Bergenhusen\
 , SH\, 24861\, Deutschland
X-APPLE-STRUCTURED-LOCATION;VALUE=URI;X-ADDRESS=Michael-Otto-Institut im NA
 BU\, Goosstroot 1\, Bergenhusen\, SH\, 24861\, Deutschland;X-APPLE-RADIUS=
 100;X-TITLE=NABU:geo:0,0
END:VEVENT
BEGIN:VTIMEZONE
TZID:Europe/Berlin
X-LIC-LOCATION:Europe/Berlin
BEGIN:DAYLIGHT
DTSTART:20260329T030000
TZOFFSETFROM:+0100
TZOFFSETTO:+0200
TZNAME:CEST
END:DAYLIGHT
END:VTIMEZONE
END:VCALENDAR