BEGIN:VCALENDAR
VERSION:2.0
PRODID:-//wp-events-plugin.com//7.2.3.1//EN
TZID:Europe/Berlin
X-WR-TIMEZONE:Europe/Berlin
BEGIN:VEVENT
UID:758@bergenhusen.de
DTSTART;TZID=Europe/Berlin:20260509T211500
DTEND;TZID=Europe/Berlin:20260509T224500
DTSTAMP:20260129T182241Z
URL:https://bergenhusen.de/events/jaeger-der-nacht-nachtwanderung-mit-fled
 ermausdetektoren/
SUMMARY:Jäger der Nacht: Nachtwanderung mit Fledermausdetektoren
DESCRIPTION:Flink und geräuschlos sind sie in der Dunkelheit auf der Suche
  nach Nahrung. Normalerweise haben wir nicht oft die Chance Fledermäuse h
 autnah zu erleben. Doch bei einer Führung mit Fledermausdetektoren durch 
 Bergenhusen\, begegnet man Rauhaut-\, Zwerg- und anderen Fledermäusen. An
 gebot im Rahmen des „Aktionsmonat Naturerlebnis“.\n\nKosten: Erwachsen
 e 7 €\, Kinder 4 €\nBitte mitbringen: ggf. Mückenschutz
CATEGORIES:Michael-Otto-Institut im NABU
LOCATION:NABU\, Michael-Otto-Institut im NABU\, Goosstroot 1\, Bergenhusen\
 , SH\, 24861\, Deutschland
X-APPLE-STRUCTURED-LOCATION;VALUE=URI;X-ADDRESS=Michael-Otto-Institut im NA
 BU\, Goosstroot 1\, Bergenhusen\, SH\, 24861\, Deutschland;X-APPLE-RADIUS=
 100;X-TITLE=NABU:geo:0,0
END:VEVENT
BEGIN:VTIMEZONE
TZID:Europe/Berlin
X-LIC-LOCATION:Europe/Berlin
BEGIN:DAYLIGHT
DTSTART:20260329T030000
TZOFFSETFROM:+0100
TZOFFSETTO:+0200
TZNAME:CEST
END:DAYLIGHT
END:VTIMEZONE
END:VCALENDAR