BEGIN:VCALENDAR
VERSION:2.0
PRODID:-//wp-events-plugin.com//7.2.3.1//EN
TZID:Europe/Berlin
X-WR-TIMEZONE:Europe/Berlin
BEGIN:VEVENT
UID:803@bergenhusen.de
DTSTART;TZID=Europe/Berlin:20260906T140000
DTEND;TZID=Europe/Berlin:20260906T160000
DTSTAMP:20260307T180849Z
URL:https://bergenhusen.de/events/heimatverein-bergenhusen-backen-an-der-m
 uehle/
SUMMARY:Heimatverein Bergenhusen Backen an der Mühle
DESCRIPTION:
ATTACH;FMTTYPE=image/jpeg:https://bergenhusen.de/wp-content/uploads/2026/0
 3/HMV_Wappen_2025-300ppi.jpg
CATEGORIES:Vereinsaktivitäten
LOCATION:Mühle Margaretha\, Mühle Margaretha\, Möhlenbarg\, Bergenhusen\
 , 24861\, Deutschland
X-APPLE-STRUCTURED-LOCATION;VALUE=URI;X-ADDRESS=Mühle Margaretha\, Möhlen
 barg\, Bergenhusen\, 24861\, Deutschland;X-APPLE-RADIUS=100;X-TITLE=Mühle
  Margaretha:geo:0,0
END:VEVENT
BEGIN:VTIMEZONE
TZID:Europe/Berlin
X-LIC-LOCATION:Europe/Berlin
BEGIN:DAYLIGHT
DTSTART:20260329T030000
TZOFFSETFROM:+0100
TZOFFSETTO:+0200
TZNAME:CEST
END:DAYLIGHT
END:VTIMEZONE
END:VCALENDAR