BEGIN:VCALENDAR
VERSION:2.0
PRODID:-//wp-events-plugin.com//7.2.3.1//EN
TZID:Europe/Berlin
X-WR-TIMEZONE:Europe/Berlin
BEGIN:VEVENT
UID:840@bergenhusen.de
DTSTART;TZID=Europe/Berlin:20260617T190000
DTEND;TZID=Europe/Berlin:20260617T190000
DTSTAMP:20260308T084818Z
URL:https://bergenhusen.de/events/gemeinde-themenabend-2/
SUMMARY:Gemeinde Themenabend
DESCRIPTION:Mülltrennung\, Mir doch egal!
ATTACH;FMTTYPE=image/jpeg:https://bergenhusen.de/wp-content/uploads/2020/0
 3/cropped-500px-Bergenhusen_Wappen.svg_.png
CATEGORIES:Gemeinde
LOCATION:Gemeindehaus "Alte Meierei"\, Bäckerstroot 5\, Bergenhusen\, 2486
 1\, Deutschland
X-APPLE-STRUCTURED-LOCATION;VALUE=URI;X-ADDRESS=Bäckerstroot 5\, Bergenhus
 en\, 24861\, Deutschland;X-APPLE-RADIUS=100;X-TITLE=Gemeindehaus \"Alte Me
 ierei\":geo:0,0
END:VEVENT
BEGIN:VTIMEZONE
TZID:Europe/Berlin
X-LIC-LOCATION:Europe/Berlin
BEGIN:DAYLIGHT
DTSTART:20260329T030000
TZOFFSETFROM:+0100
TZOFFSETTO:+0200
TZNAME:CEST
END:DAYLIGHT
END:VTIMEZONE
END:VCALENDAR