BEGIN:VCALENDAR
VERSION:2.0
PRODID:-//wp-events-plugin.com//7.2.3.1//EN
TZID:Europe/Berlin
X-WR-TIMEZONE:Europe/Berlin
BEGIN:VEVENT
UID:883@bergenhusen.de
DTSTART;TZID=Europe/Berlin;VALUE=DATE:20261107
DTEND;TZID=Europe/Berlin;VALUE=DATE:20261108
DTSTAMP:20260308T101530Z
URL:https://bergenhusen.de/events/ffw-feuerwehrball/
SUMMARY:FFw Feuerwehrball
DESCRIPTION:
ATTACH;FMTTYPE=image/jpeg:https://bergenhusen.de/wp-content/uploads/2020/0
 3/feuerwehr_wappen-35a2acf9-84ef8e6f@160w.jpg
CATEGORIES:Vereinsaktivitäten
LOCATION:Cafe´ Landgasthof Hoier Boier\, Dörpstroot 12a\, Bergenhusen\, 2
 4861\, Deutschland
X-APPLE-STRUCTURED-LOCATION;VALUE=URI;X-ADDRESS=Dörpstroot 12a\, Bergenhus
 en\, 24861\, Deutschland;X-APPLE-RADIUS=100;X-TITLE=Cafe´ Landgasthof Hoi
 er Boier:geo:0,0
END:VEVENT
BEGIN:VTIMEZONE
TZID:Europe/Berlin
X-LIC-LOCATION:Europe/Berlin
BEGIN:STANDARD
DTSTART:20261025T020000
TZOFFSETFROM:+0200
TZOFFSETTO:+0100
TZNAME:CET
END:STANDARD
END:VTIMEZONE
END:VCALENDAR