BEGIN:VCALENDAR
VERSION:2.0
PRODID:-//wp-events-plugin.com//7.2.3.1//EN
TZID:Europe/Berlin
X-WR-TIMEZONE:Europe/Berlin
BEGIN:VEVENT
UID:881@bergenhusen.de
DTSTART;TZID=Europe/Berlin;VALUE=DATE:20260829
DTEND;TZID=Europe/Berlin;VALUE=DATE:20260830
DTSTAMP:20260308T101314Z
URL:https://bergenhusen.de/events/ffw-amtsfeuerwehrtag/
SUMMARY:FFw Amtsfeuerwehrtag
DESCRIPTION:Alt Bennebek
ATTACH;FMTTYPE=image/jpeg:https://bergenhusen.de/wp-content/uploads/2020/0
 3/feuerwehr_wappen-35a2acf9-84ef8e6f@160w.jpg
CATEGORIES:Vereinsaktivitäten
LOCATION:"laut Anhang"\, laut Anhang\, laut Anhang\, Deutschland
X-APPLE-STRUCTURED-LOCATION;VALUE=URI;X-ADDRESS=laut Anhang\, laut Anhang\,
  Deutschland;X-APPLE-RADIUS=100;X-TITLE=\"laut Anhang\":geo:0,0
END:VEVENT
BEGIN:VTIMEZONE
TZID:Europe/Berlin
X-LIC-LOCATION:Europe/Berlin
BEGIN:DAYLIGHT
DTSTART:20260329T030000
TZOFFSETFROM:+0100
TZOFFSETTO:+0200
TZNAME:CEST
END:DAYLIGHT
END:VTIMEZONE
END:VCALENDAR