BEGIN:VCALENDAR
VERSION:2.0
PRODID:-//wp-events-plugin.com//7.2.3.1//EN
TZID:Europe/Berlin
X-WR-TIMEZONE:Europe/Berlin
BEGIN:VEVENT
UID:425@bergenhusen.de
DTSTART;TZID=Europe/Berlin:20220804T190000
DTEND;TZID=Europe/Berlin:20220804T190000
DTSTAMP:20220116T130214Z
URL:https://bergenhusen.de/events/feuerwehr-uebungsdienst-2022-08-04/
SUMMARY:Feuerwehr Übungsdienst
DESCRIPTION:
ATTACH;FMTTYPE=image/jpeg:https://bergenhusen.de/wp-content/uploads/2022/0
 1/Feuerwehr-Bergenhusen.jpg
CATEGORIES:Feuerwehrdienst
LOCATION:FFw Gerätehaus\, Bäckerstroot 5\, Bergenhusen\, 24861\, Deutschl
 and
X-APPLE-STRUCTURED-LOCATION;VALUE=URI;X-ADDRESS=Bäckerstroot 5\, Bergenhus
 en\, 24861\, Deutschland;X-APPLE-RADIUS=100;X-TITLE=FFw Gerätehaus:geo:0,
 0
END:VEVENT
BEGIN:VTIMEZONE
TZID:Europe/Berlin
X-LIC-LOCATION:Europe/Berlin
BEGIN:DAYLIGHT
DTSTART:20220327T030000
TZOFFSETFROM:+0100
TZOFFSETTO:+0200
TZNAME:CEST
END:DAYLIGHT
END:VTIMEZONE
END:VCALENDAR