BEGIN:VCALENDAR
VERSION:2.0
PRODID:-//wp-events-plugin.com//7.2.3.1//EN
TZID:Europe/Berlin
X-WR-TIMEZONE:Europe/Berlin
BEGIN:VEVENT
UID:284@bergenhusen.de
DTSTART;TZID=Europe/Berlin:20210525T150000
DTEND;TZID=Europe/Berlin:20210525T154000
DTSTAMP:20201230T153827Z
URL:https://bergenhusen.de/events/fahrbuecherei-bitte-aktuelle-meldung-bzg
 l-covid-19-beachten-2-2021-05-25/
SUMMARY:Fahrbücherei\, bitte aktuelle Meldung bzgl. Covid 19 beachten
DESCRIPTION:Fahrbücherei 2021 / Fahrplan als Druckversion 2021\n\n&nbsp\;\
 n\nLink zur Fahrbücherei für aktuelle Meldungen
CATEGORIES:Fahrbücherei
LOCATION:Dorfplatz\, Bäckerstroot 1\, Bergenhusen\, 24861\, Deutschland
X-APPLE-STRUCTURED-LOCATION;VALUE=URI;X-ADDRESS=Bäckerstroot 1\, Bergenhus
 en\, 24861\, Deutschland;X-APPLE-RADIUS=100;X-TITLE=Dorfplatz:geo:0,0
END:VEVENT
BEGIN:VTIMEZONE
TZID:Europe/Berlin
X-LIC-LOCATION:Europe/Berlin
BEGIN:DAYLIGHT
DTSTART:20210328T030000
TZOFFSETFROM:+0100
TZOFFSETTO:+0200
TZNAME:CEST
END:DAYLIGHT
END:VTIMEZONE
END:VCALENDAR