BEGIN:VCALENDAR
VERSION:2.0
PRODID:-//wp-events-plugin.com//7.2.3.1//EN
TZID:Europe/Berlin
X-WR-TIMEZONE:Europe/Berlin
BEGIN:VEVENT
UID:601@bergenhusen.de
DTSTART;TZID=Europe/Berlin:20240503T150500
DTEND;TZID=Europe/Berlin:20240503T154500
DTSTAMP:20240106T123115Z
URL:https://bergenhusen.de/events/fahrbuecherei-52/
SUMMARY:Fahrbücherei
DESCRIPTION:Ergebnisse | Fahrplan der Fahrbüchereien (bz-sh.de)\n\n
CATEGORIES:Fahrbücherei
LOCATION:Kirche Bergenhusen\, Kirche Bergenhusen\, Poststroot 1a\, Bergenhu
 sen\, 24861\, Deutschland
X-APPLE-STRUCTURED-LOCATION;VALUE=URI;X-ADDRESS=Kirche Bergenhusen\, Postst
 root 1a\, Bergenhusen\, 24861\, Deutschland;X-APPLE-RADIUS=100;X-TITLE=Kir
 che Bergenhusen:geo:0,0
END:VEVENT
BEGIN:VTIMEZONE
TZID:Europe/Berlin
X-LIC-LOCATION:Europe/Berlin
BEGIN:DAYLIGHT
DTSTART:20240331T030000
TZOFFSETFROM:+0100
TZOFFSETTO:+0200
TZNAME:CEST
END:DAYLIGHT
END:VTIMEZONE
END:VCALENDAR