BEGIN:VCALENDAR
VERSION:2.0
PRODID:-//wp-events-plugin.com//7.2.3.1//EN
TZID:Europe/Berlin
X-WR-TIMEZONE:Europe/Berlin
BEGIN:VEVENT
UID:798@bergenhusen.de
DTSTART;TZID=Europe/Berlin:20261113T150500
DTEND;TZID=Europe/Berlin:20261113T154500
DTSTAMP:20260129T185159Z
URL:https://bergenhusen.de/events/fahrbuecherei-140/
SUMMARY:Fahrbücherei
DESCRIPTION:
CATEGORIES:Fahrbücherei
LOCATION:Dorfplatz\, Bäckerstroot 1\, Bergenhusen\, 24861\, Deutschland
X-APPLE-STRUCTURED-LOCATION;VALUE=URI;X-ADDRESS=Bäckerstroot 1\, Bergenhus
 en\, 24861\, Deutschland;X-APPLE-RADIUS=100;X-TITLE=Dorfplatz:geo:0,0
END:VEVENT
BEGIN:VTIMEZONE
TZID:Europe/Berlin
X-LIC-LOCATION:Europe/Berlin
BEGIN:STANDARD
DTSTART:20261025T020000
TZOFFSETFROM:+0200
TZOFFSETTO:+0100
TZNAME:CET
END:STANDARD
END:VTIMEZONE
END:VCALENDAR