BEGIN:VCALENDAR
VERSION:2.0
PRODID:-//wp-events-plugin.com//7.2.3.1//EN
TZID:Europe/Berlin
X-WR-TIMEZONE:Europe/Berlin
BEGIN:VEVENT
UID:792@bergenhusen.de
DTSTART;TZID=Europe/Berlin:20260429T150500
DTEND;TZID=Europe/Berlin:20260429T154500
DTSTAMP:20260129T185049Z
URL:https://bergenhusen.de/events/fahrbuecherei-134/
SUMMARY:Fahrbücherei
DESCRIPTION:
CATEGORIES:Fahrbücherei
LOCATION:Dorfplatz\, Bäckerstroot 1\, Bergenhusen\, 24861\, Deutschland
X-APPLE-STRUCTURED-LOCATION;VALUE=URI;X-ADDRESS=Bäckerstroot 1\, Bergenhus
 en\, 24861\, Deutschland;X-APPLE-RADIUS=100;X-TITLE=Dorfplatz:geo:0,0
END:VEVENT
BEGIN:VTIMEZONE
TZID:Europe/Berlin
X-LIC-LOCATION:Europe/Berlin
BEGIN:DAYLIGHT
DTSTART:20260329T030000
TZOFFSETFROM:+0100
TZOFFSETTO:+0200
TZNAME:CEST
END:DAYLIGHT
END:VTIMEZONE
END:VCALENDAR