BEGIN:VCALENDAR
VERSION:2.0
PRODID:-//wp-events-plugin.com//7.2.3.1//EN
TZID:Europe/Berlin
X-WR-TIMEZONE:Europe/Berlin
BEGIN:VEVENT
UID:783@bergenhusen.de
DTSTART;TZID=Europe/Berlin:20260429T113500
DTEND;TZID=Europe/Berlin:20260429T115000
DTSTAMP:20260129T184808Z
URL:https://bergenhusen.de/events/fahrbuecherei-125/
SUMMARY:Fahrbücherei
DESCRIPTION:
CATEGORIES:Fahrbücherei
LOCATION:Lüttensee 19\, Lüttensee 19\, Bergenhusen\, 24861\, Deutschland
X-APPLE-STRUCTURED-LOCATION;VALUE=URI;X-ADDRESS=Lüttensee 19\, Bergenhusen
 \, 24861\, Deutschland;X-APPLE-RADIUS=100;X-TITLE=Lüttensee 19:geo:0,0
END:VEVENT
BEGIN:VTIMEZONE
TZID:Europe/Berlin
X-LIC-LOCATION:Europe/Berlin
BEGIN:DAYLIGHT
DTSTART:20260329T030000
TZOFFSETFROM:+0100
TZOFFSETTO:+0200
TZNAME:CEST
END:DAYLIGHT
END:VTIMEZONE
END:VCALENDAR