BEGIN:VCALENDAR
VERSION:2.0
PRODID:-//wp-events-plugin.com//7.2.3.1//EN
TZID:Europe/Berlin
X-WR-TIMEZONE:Europe/Berlin
BEGIN:VEVENT
UID:837@bergenhusen.de
DTSTART;TZID=Europe/Berlin:20261230T113000
DTEND;TZID=Europe/Berlin:20261230T113000
DTSTAMP:20260308T084159Z
URL:https://bergenhusen.de/events/essen-in-gemeinschaft-24/
SUMMARY:Essen in Gemeinschaft
DESCRIPTION:
ATTACH;FMTTYPE=image/jpeg:https://bergenhusen.de/wp-content/uploads/2020/0
 3/cropped-500px-Bergenhusen_Wappen.svg_.png
CATEGORIES:Gemeinde
LOCATION:Cafe´ Landgasthof Hoier Boier\, Dörpstroot 12a\, Bergenhusen\, 2
 4861\, Deutschland
X-APPLE-STRUCTURED-LOCATION;VALUE=URI;X-ADDRESS=Dörpstroot 12a\, Bergenhus
 en\, 24861\, Deutschland;X-APPLE-RADIUS=100;X-TITLE=Cafe´ Landgasthof Hoi
 er Boier:geo:0,0
END:VEVENT
BEGIN:VTIMEZONE
TZID:Europe/Berlin
X-LIC-LOCATION:Europe/Berlin
BEGIN:STANDARD
DTSTART:20261025T020000
TZOFFSETFROM:+0200
TZOFFSETTO:+0100
TZNAME:CET
END:STANDARD
END:VTIMEZONE
END:VCALENDAR