BEGIN:VCALENDAR
VERSION:2.0
PRODID:-//wp-events-plugin.com//7.2.3.1//EN
TZID:Europe/Berlin
X-WR-TIMEZONE:Europe/Berlin
BEGIN:VEVENT
UID:887@bergenhusen.de
DTSTART;TZID=Europe/Berlin:20261008T143000
DTEND;TZID=Europe/Berlin:20261008T143000
DTSTAMP:20260308T102202Z
URL:https://bergenhusen.de/events/drk-ortsverein-erntedanknachmittag/
SUMMARY:DRK Ortsverein   Erntedanknachmittag
DESCRIPTION:
ATTACH;FMTTYPE=image/jpeg:https://bergenhusen.de/wp-content/uploads/2020/0
 3/DRK-Logo_aLzM-6ba447a8-84ef8e6f@160w.jpg
CATEGORIES:Vereinsaktivitäten
LOCATION:Cafe´ Landgasthof Hoier Boier\, Dörpstroot 12a\, Bergenhusen\, 2
 4861\, Deutschland
X-APPLE-STRUCTURED-LOCATION;VALUE=URI;X-ADDRESS=Dörpstroot 12a\, Bergenhus
 en\, 24861\, Deutschland;X-APPLE-RADIUS=100;X-TITLE=Cafe´ Landgasthof Hoi
 er Boier:geo:0,0
END:VEVENT
BEGIN:VTIMEZONE
TZID:Europe/Berlin
X-LIC-LOCATION:Europe/Berlin
BEGIN:DAYLIGHT
DTSTART:20260329T030000
TZOFFSETFROM:+0100
TZOFFSETTO:+0200
TZNAME:CEST
END:DAYLIGHT
END:VTIMEZONE
END:VCALENDAR