BEGIN:VCALENDAR
VERSION:2.0
PRODID:-//wp-events-plugin.com//7.2.3.1//EN
TZID:Europe/Berlin
X-WR-TIMEZONE:Europe/Berlin
BEGIN:VEVENT
UID:759@bergenhusen.de
DTSTART;TZID=Europe/Berlin:20260512T190000
DTEND;TZID=Europe/Berlin:20260512T200000
DTSTAMP:20260129T182400Z
URL:https://bergenhusen.de/events/abendlicher-spaziergang-durchs-storchend
 orf/
SUMMARY:Abendlicher Spaziergang durchs Storchendorf
DESCRIPTION:Zur Ruhe kommen im idyllischen Storchendorf: Der Erholungsort B
 ergenhusen lädt zum abendlichen Spaziergang ein. Die Störche bereiten si
 ch auf die Nacht vor und es gibt viel zu erzählen - über unsere Sommerg
 äste und das Dorf gleichermaßen. Angebot im Rahmen des „Aktionsmonat N
 aturerlebnis“\nKosten: Erwachsene 5 €\, Kinder 3 €\n\nBitte mitbring
 en: Fernglas (falls vorhanden)\n\n&nbsp\;
CATEGORIES:Michael-Otto-Institut im NABU
LOCATION:NABU\, Michael-Otto-Institut im NABU\, Goosstroot 1\, Bergenhusen\
 , SH\, 24861\, Deutschland
X-APPLE-STRUCTURED-LOCATION;VALUE=URI;X-ADDRESS=Michael-Otto-Institut im NA
 BU\, Goosstroot 1\, Bergenhusen\, SH\, 24861\, Deutschland;X-APPLE-RADIUS=
 100;X-TITLE=NABU:geo:0,0
END:VEVENT
BEGIN:VTIMEZONE
TZID:Europe/Berlin
X-LIC-LOCATION:Europe/Berlin
BEGIN:DAYLIGHT
DTSTART:20260329T030000
TZOFFSETFROM:+0100
TZOFFSETTO:+0200
TZNAME:CEST
END:DAYLIGHT
END:VTIMEZONE
END:VCALENDAR